BEGIN:VCALENDAR
VERSION:2.0
PRODID:-//Andrew Martin Music - ECPv6.15.20//NONSGML v1.0//EN
CALSCALE:GREGORIAN
METHOD:PUBLISH
X-ORIGINAL-URL:https://andrewmartinmusic.com
X-WR-CALDESC:Events for Andrew Martin Music
REFRESH-INTERVAL;VALUE=DURATION:PT1H
X-Robots-Tag:noindex
X-PUBLISHED-TTL:PT1H
BEGIN:VTIMEZONE
TZID:America/Toronto
BEGIN:DAYLIGHT
TZOFFSETFROM:-0500
TZOFFSETTO:-0400
TZNAME:EDT
DTSTART:20240310T070000
END:DAYLIGHT
BEGIN:STANDARD
TZOFFSETFROM:-0400
TZOFFSETTO:-0500
TZNAME:EST
DTSTART:20241103T060000
END:STANDARD
BEGIN:DAYLIGHT
TZOFFSETFROM:-0500
TZOFFSETTO:-0400
TZNAME:EDT
DTSTART:20250309T070000
END:DAYLIGHT
BEGIN:STANDARD
TZOFFSETFROM:-0400
TZOFFSETTO:-0500
TZNAME:EST
DTSTART:20251102T060000
END:STANDARD
BEGIN:DAYLIGHT
TZOFFSETFROM:-0500
TZOFFSETTO:-0400
TZNAME:EDT
DTSTART:20260308T070000
END:DAYLIGHT
BEGIN:STANDARD
TZOFFSETFROM:-0400
TZOFFSETTO:-0500
TZNAME:EST
DTSTART:20261101T060000
END:STANDARD
END:VTIMEZONE
BEGIN:VEVENT
DTSTART;TZID=America/Toronto:20251108T200000
DTEND;TZID=America/Toronto:20251108T223000
DTSTAMP:20260419T075514
CREATED:20260210T210358Z
LAST-MODIFIED:20260210T210442Z
UID:884-1762632000-1762641000@andrewmartinmusic.com
SUMMARY:Elvis On Tour
DESCRIPTION:Icon Productions
URL:https://andrewmartinmusic.com/event/elvis-on-tour-3/
LOCATION:New Roads Performing Arts Centre\, 505 Pickering Crescent\, Newmarket\, Ontario\, L3Y 8H1\, Canada
ATTACH;FMTTYPE=image/jpeg:https://andrewmartinmusic.com/wp-content/uploads/2025/05/21283863a.jpg
END:VEVENT
BEGIN:VEVENT
DTSTART;TZID=America/Toronto:20251114T200000
DTEND;TZID=America/Toronto:20251114T223000
DTSTAMP:20260419T075514
CREATED:20260210T210630Z
LAST-MODIFIED:20260210T210630Z
UID:887-1763150400-1763159400@andrewmartinmusic.com
SUMMARY:Elvis On Tour
DESCRIPTION:Icon Productions
URL:https://andrewmartinmusic.com/event/elvis-on-tour-4/
LOCATION:Meadowvale Theatre\, 6315 Montevideo Rd\, Mississauga\, Ontario\, L5N 4G7\, Canada
ATTACH;FMTTYPE=image/jpeg:https://andrewmartinmusic.com/wp-content/uploads/2025/05/21283863a.jpg
END:VEVENT
END:VCALENDAR